BEGIN:VCALENDAR
PRODID:-//Microsoft Corporation//Outlook 12.0 MIMEDIR//EN
VERSION:2.0
CALSCALE:GREGORIAN
BEGIN:VEVENT
UID: 30879cb2-70e5-4aa3-8122-bfc85055acc7
SUMMARY:TÜRI KEVADE KOOLI AVATUD USTE PÄEV
DTSTAMP:20260423T100000
DTSTART:20260423T100000
DTEND:20260423T120000
LOCATION:Vabriku pst 8, Türi
DESCRIPTION: <h5><span style="-webkit-text-stroke-width:0px;background-color:rgb(255, 255, 255);caret-color:rgb(34, 34, 34);color:rgb(34, 34, 34);display:inline !important;float:none;font-family:Arial, Helvetica, sans-serif;font-size:small;font-style:normal;font-variant-caps:normal;font-weight:400;letter-spacing:normal;orphans:2;text-align:start;text-decoration:none;text-indent:0px;text-transform:none;white-space:normal;widows:2;word-spacing:0px;"><strong>TÜRI KEVADE KOOLI AVATUD USTE PÄEV</strong></span><br><span style="-webkit-text-stroke-width:0px;background-color:rgb(255, 255, 255);caret-color:rgb(34, 34, 34);color:rgb(34, 34, 34);display:inline !important;float:none;font-family:Arial, Helvetica, sans-serif;font-size:small;font-style:normal;font-variant-caps:normal;font-weight:400;letter-spacing:normal;orphans:2;text-align:start;text-decoration:none;text-indent:0px;text-transform:none;white-space:normal;widows:2;word-spacing:0px;">23. aprillil 2026</span><br>&nbsp;</h5><p>&nbsp;</p><p><strong>ajakava:&nbsp;</strong><br><span style="-webkit-text-stroke-width:0px;background-color:rgb(255, 255, 255);caret-color:rgb(34, 34, 34);color:rgb(34, 34, 34);display:inline !important;float:none;font-family:Arial, Helvetica, sans-serif;font-size:small;font-style:normal;font-variant-caps:normal;font-weight:400;letter-spacing:normal;orphans:2;text-align:start;text-decoration:none;text-indent:0px;text-transform:none;white-space:normal;widows:2;word-spacing:0px;">kell 10:00–11:30 &nbsp; kooli tutvustus ja ringkäik koolimajas ning klasside külastus</span><br><span style="-webkit-text-stroke-width:0px;background-color:rgb(255, 255, 255);caret-color:rgb(34, 34, 34);color:rgb(34, 34, 34);display:inline !important;float:none;font-family:Arial, Helvetica, sans-serif;font-size:small;font-style:normal;font-variant-caps:normal;font-weight:400;letter-spacing:normal;orphans:2;text-align:start;text-decoration:none;text-indent:0px;text-transform:none;white-space:normal;widows:2;word-spacing:0px;">kell 11:30–12:00 &nbsp; tagasiside, küsimused, vastused.</span><br><span style="-webkit-text-stroke-width:0px;background-color:rgb(255, 255, 255);caret-color:rgb(34, 34, 34);color:rgb(34, 34, 34);display:inline !important;float:none;font-family:Arial, Helvetica, sans-serif;font-size:small;font-style:normal;font-variant-caps:normal;font-weight:400;letter-spacing:normal;orphans:2;text-align:start;text-decoration:none;text-indent:0px;text-transform:none;white-space:normal;widows:2;word-spacing:0px;">Vestlusring õpetajatega, õppekavade ja õppekorralduse tutvustus</span><br><br><span style="-webkit-text-stroke-width:0px;background-color:rgb(255, 255, 255);caret-color:rgb(34, 34, 34);color:rgb(34, 34, 34);display:inline !important;float:none;font-family:Arial, Helvetica, sans-serif;font-size:small;font-style:normal;font-variant-caps:normal;font-weight:400;letter-spacing:normal;orphans:2;text-align:start;text-decoration:none;text-indent:0px;text-transform:none;white-space:normal;widows:2;word-spacing:0px;"><strong>OOTAME KÕIKI HUVILISI!</strong></span><br><br><span style="-webkit-text-stroke-width:0px;background-color:rgb(255, 255, 255);caret-color:rgb(34, 34, 34);color:rgb(34, 34, 34);display:inline !important;float:none;font-family:Arial, Helvetica, sans-serif;font-size:small;font-style:normal;font-variant-caps:normal;font-weight:400;letter-spacing:normal;orphans:2;text-align:start;text-decoration:none;text-indent:0px;text-transform:none;white-space:normal;widows:2;word-spacing:0px;">Võimalusel palume oma tulekust teada anda &nbsp;21. aprilliks 2026</span><br><a style="-webkit-text-stroke-width:0px;color:rgb(17, 85, 204);font-family:Arial, Helvetica, sans-serif;font-style:normal;font-variant-caps:normal;font-weight:400;letter-spacing:normal;orphans:2;text-align:start;text-indent:0px;text-transform:none;white-space:normal;widows:2;word-spacing:0px;" href="mailto:direktor@kevadekool.edu.ee" target="_blank">direktor@kevadekool.edu.ee</a><br><span style="-webkit-text-stroke-width:0px;background-color:rgb(255, 255, 255);caret-color:rgb(34, 34, 34);color:rgb(34, 34, 34);display:inline !important;float:none;font-family:Arial, Helvetica, sans-serif;font-size:small;font-style:normal;font-variant-caps:normal;font-weight:400;letter-spacing:normal;orphans:2;text-align:start;text-decoration:none;text-indent:0px;text-transform:none;white-space:normal;widows:2;word-spacing:0px;">tel 515 2775</span><br>&nbsp;</p><p><strong>Link: </strong>https://kevadekool.edu.ee/et/sundmuste-kalender/turi-kevade-kooli-avatud-uste-paev</p><p><strong>Hind: </strong></p>
STATUS:CONFIRMED
SEQUENCE:3
X-ALT-DESC;FMTTYPE=text/html:<h5><span style="-webkit-text-stroke-width:0px;background-color:rgb(255, 255, 255);caret-color:rgb(34, 34, 34);color:rgb(34, 34, 34);display:inline !important;float:none;font-family:Arial, Helvetica, sans-serif;font-size:small;font-style:normal;font-variant-caps:normal;font-weight:400;letter-spacing:normal;orphans:2;text-align:start;text-decoration:none;text-indent:0px;text-transform:none;white-space:normal;widows:2;word-spacing:0px;"><strong>TÜRI KEVADE KOOLI AVATUD USTE PÄEV</strong></span><br><span style="-webkit-text-stroke-width:0px;background-color:rgb(255, 255, 255);caret-color:rgb(34, 34, 34);color:rgb(34, 34, 34);display:inline !important;float:none;font-family:Arial, Helvetica, sans-serif;font-size:small;font-style:normal;font-variant-caps:normal;font-weight:400;letter-spacing:normal;orphans:2;text-align:start;text-decoration:none;text-indent:0px;text-transform:none;white-space:normal;widows:2;word-spacing:0px;">23. aprillil 2026</span><br>&nbsp;</h5><p>&nbsp;</p><p><strong>ajakava:&nbsp;</strong><br><span style="-webkit-text-stroke-width:0px;background-color:rgb(255, 255, 255);caret-color:rgb(34, 34, 34);color:rgb(34, 34, 34);display:inline !important;float:none;font-family:Arial, Helvetica, sans-serif;font-size:small;font-style:normal;font-variant-caps:normal;font-weight:400;letter-spacing:normal;orphans:2;text-align:start;text-decoration:none;text-indent:0px;text-transform:none;white-space:normal;widows:2;word-spacing:0px;">kell 10:00–11:30 &nbsp; kooli tutvustus ja ringkäik koolimajas ning klasside külastus</span><br><span style="-webkit-text-stroke-width:0px;background-color:rgb(255, 255, 255);caret-color:rgb(34, 34, 34);color:rgb(34, 34, 34);display:inline !important;float:none;font-family:Arial, Helvetica, sans-serif;font-size:small;font-style:normal;font-variant-caps:normal;font-weight:400;letter-spacing:normal;orphans:2;text-align:start;text-decoration:none;text-indent:0px;text-transform:none;white-space:normal;widows:2;word-spacing:0px;">kell 11:30–12:00 &nbsp; tagasiside, küsimused, vastused.</span><br><span style="-webkit-text-stroke-width:0px;background-color:rgb(255, 255, 255);caret-color:rgb(34, 34, 34);color:rgb(34, 34, 34);display:inline !important;float:none;font-family:Arial, Helvetica, sans-serif;font-size:small;font-style:normal;font-variant-caps:normal;font-weight:400;letter-spacing:normal;orphans:2;text-align:start;text-decoration:none;text-indent:0px;text-transform:none;white-space:normal;widows:2;word-spacing:0px;">Vestlusring õpetajatega, õppekavade ja õppekorralduse tutvustus</span><br><br><span style="-webkit-text-stroke-width:0px;background-color:rgb(255, 255, 255);caret-color:rgb(34, 34, 34);color:rgb(34, 34, 34);display:inline !important;float:none;font-family:Arial, Helvetica, sans-serif;font-size:small;font-style:normal;font-variant-caps:normal;font-weight:400;letter-spacing:normal;orphans:2;text-align:start;text-decoration:none;text-indent:0px;text-transform:none;white-space:normal;widows:2;word-spacing:0px;"><strong>OOTAME KÕIKI HUVILISI!</strong></span><br><br><span style="-webkit-text-stroke-width:0px;background-color:rgb(255, 255, 255);caret-color:rgb(34, 34, 34);color:rgb(34, 34, 34);display:inline !important;float:none;font-family:Arial, Helvetica, sans-serif;font-size:small;font-style:normal;font-variant-caps:normal;font-weight:400;letter-spacing:normal;orphans:2;text-align:start;text-decoration:none;text-indent:0px;text-transform:none;white-space:normal;widows:2;word-spacing:0px;">Võimalusel palume oma tulekust teada anda &nbsp;21. aprilliks 2026</span><br><a style="-webkit-text-stroke-width:0px;color:rgb(17, 85, 204);font-family:Arial, Helvetica, sans-serif;font-style:normal;font-variant-caps:normal;font-weight:400;letter-spacing:normal;orphans:2;text-align:start;text-indent:0px;text-transform:none;white-space:normal;widows:2;word-spacing:0px;" href="mailto:direktor@kevadekool.edu.ee" target="_blank">direktor@kevadekool.edu.ee</a><br><span style="-webkit-text-stroke-width:0px;background-color:rgb(255, 255, 255);caret-color:rgb(34, 34, 34);color:rgb(34, 34, 34);display:inline !important;float:none;font-family:Arial, Helvetica, sans-serif;font-size:small;font-style:normal;font-variant-caps:normal;font-weight:400;letter-spacing:normal;orphans:2;text-align:start;text-decoration:none;text-indent:0px;text-transform:none;white-space:normal;widows:2;word-spacing:0px;">tel 515 2775</span><br>&nbsp;</p><p><strong>Link: </strong>https://kevadekool.edu.ee/et/sundmuste-kalender/turi-kevade-kooli-avatud-uste-paev</p><p><strong>Hind: </strong></p>
X-MICROSOFT-CDO-BUSYSTATUS:OOF
X-MICROSOFT-CDO-IMPORTANCE:1
X-MICROSOFT-DISALLOW-COUNTER:FALSE
X-MS-OLK-ALLOWEXTERNCHECK:TRUE
X-MS-OLK-CONFTYPE:0
X-MICROSOFT-CDO-ALLDAYEVENT:
X-MICROSOFT-MSNCALENDAR-ALLDAYEVENT:
END:VEVENT
END:VCALENDAR